BEGIN:VCALENDAR
PRODID:-//spiritec//spiritec media library//EN
VERSION:2.0
METHOD:PUBLISH
BEGIN:VEVENT
UID:ical-2026-05-31-1853
DTSTART:20260531T130000Z
DTSTAMP:20260420T004340Z
LOCATION:Studio 1
SUMMARY:Monsta Monsta
DESCRIPTION:
CREATED:20260420T004340Z
DTEND:20260531T130000Z
END:VEVENT
END:VCALENDAR
