BEGIN:VCALENDAR
PRODID:-//spiritec//spiritec media library//EN
VERSION:2.0
METHOD:PUBLISH
BEGIN:VEVENT
UID:ical-2026-05-30-1854
DTSTART:20260530T140000Z
DTSTAMP:20260420T005105Z
LOCATION:Studio 1
SUMMARY:Monsta Monsta
DESCRIPTION:
CREATED:20260420T005105Z
DTEND:20260530T140000Z
END:VEVENT
END:VCALENDAR
